BEGIN:VCALENDAR
VERSION:2.0
PRODID:-//IAGOS - ECPv6.15.20//NONSGML v1.0//EN
CALSCALE:GREGORIAN
METHOD:PUBLISH
X-WR-CALNAME:IAGOS
X-ORIGINAL-URL:https://www.iagos.org
X-WR-CALDESC:Events for IAGOS
REFRESH-INTERVAL;VALUE=DURATION:PT1H
X-Robots-Tag:noindex
X-PUBLISHED-TTL:PT1H
BEGIN:VTIMEZONE
TZID:Europe/Paris
BEGIN:DAYLIGHT
TZOFFSETFROM:+0100
TZOFFSETTO:+0200
TZNAME:CEST
DTSTART:20180325T010000
END:DAYLIGHT
BEGIN:STANDARD
TZOFFSETFROM:+0200
TZOFFSETTO:+0100
TZNAME:CET
DTSTART:20181028T010000
END:STANDARD
BEGIN:DAYLIGHT
TZOFFSETFROM:+0100
TZOFFSETTO:+0200
TZNAME:CEST
DTSTART:20190331T010000
END:DAYLIGHT
BEGIN:STANDARD
TZOFFSETFROM:+0200
TZOFFSETTO:+0100
TZNAME:CET
DTSTART:20191027T010000
END:STANDARD
BEGIN:DAYLIGHT
TZOFFSETFROM:+0100
TZOFFSETTO:+0200
TZNAME:CEST
DTSTART:20200329T010000
END:DAYLIGHT
BEGIN:STANDARD
TZOFFSETFROM:+0200
TZOFFSETTO:+0100
TZNAME:CET
DTSTART:20201025T010000
END:STANDARD
END:VTIMEZONE
BEGIN:VEVENT
DTSTART;VALUE=DATE:20190624
DTEND;VALUE=DATE:20190627
DTSTAMP:20260424T153030
CREATED:20200903T140151Z
LAST-MODIFIED:20200909T123326Z
UID:2879-1561334400-1561593599@www.iagos.org
SUMMARY:Jena Workshop 2019
DESCRIPTION:
URL:https://www.iagos.org/event/jena-workshop-2019/
CATEGORIES:Workshop
ATTACH;FMTTYPE=image/jpeg:https://wp1.aeris-data.fr/wp-content-aeris/uploads/sites/66/2020/09/IMG_20190625_122834_resized_20200908_091730240-scaled.jpg
END:VEVENT
END:VCALENDAR